BEGIN:VCALENDAR
VERSION:2.0
BEGIN:VEVENT
SUMMARY:Columbus Road Country Auction
DTSTART;TZID=America/Denver:20260523T083000
DTEND;TZID=America/Denver:20260523T083000
DTSTAMP:20260523T143000Z
UID:336962-columbus-road-country-auction
DESCRIPTION:Columbus Road country auction of trailers, equipment, a boat, tools, outdoor items, household goods, artwork, and more. Features 1995 Diamond D 12’ gooseneck stock trailer, 1999 CY Corp bumper pull ATV trailer, 78” W x 11’ L; 12’ alum. fishing boat w/ trailer &amp; Mercury 15HP motor, Craftsman riding lawn mower, Craftsman 10” table saw, cast iron school bell, older WY license plates, large oak rocking chair.
LOCATION:55 Columbus Road, Dayton, WY 82836
ORGANIZER:Brannian Auction, LLC
URL:https://www.allauctionsales.com/auctions/columbus-road-country-auction
STATUS:CONFIRMED
PRIORITY:0
END:VEVENT
END:VCALENDAR