BEGIN:VCALENDAR
VERSION:2.0
BEGIN:VEVENT
SUMMARY:OTPC Excess Equipment Online Only Auction
DTSTART;TZID=America/Chicago:20260423T100000
DTEND;TZID=America/Chicago:20260507T100000
DTSTAMP:20260423T150000Z
UID:337508-otpc-excess-equipment-online-only-auction
DESCRIPTION:Otter Tail Power Company of Fergus Falls, MN has updated several units and therefore offering these items to the public at timed online auction. Items include 2014 International Terex 4050 digger derick, 2010 International 4300 Terex TL-50 bucket truck, 2015 Ford F550 bucket truck, 2014 International 7400 Terex Commander 6060, 1993 Structural steel tilt bed trailer &amp; 1994 Sauber cargo trailer. Bidding begins April 23 at 10am CT &amp; ends May 7 at 10am CT. Items located in Fergus Falls, MN.
LOCATION:201 South Sherman Street, Fergus Falls, MN 
ORGANIZER:Orr Auctioneers
URL:https://www.allauctionsales.com/auctions/otpc-excess-equipment-online-only-auction
STATUS:CONFIRMED
PRIORITY:0
END:VEVENT
END:VCALENDAR