BEGIN:VCALENDAR
VERSION:2.0
BEGIN:VEVENT
SUMMARY:Vehicles, Equipment, Tools Online Only Auction
DTSTART;TZID=America/Chicago:20260422T080000
DTEND;TZID=America/Chicago:20260506T180000
DTSTAMP:20260422T130000Z
UID:337605-vehicles-equipment-tools-online-only-auction
DESCRIPTION:Vehicles, Equipment, Tools Online Only Auction featuring 1963 Ford F100, 2022 DCT aluminum trailer, 2018 Chevy Equinox AWD, feed bunk, industrial transport rack, Farmall super MTA, running gear, skidloader mount brush cutter, AGT air compressor, Chevy Express cargo van, Craftsman riding mower, and more. Auction ends Wednesday May 6 at 6pm CT.
LOCATION:446 Custer Ave NE, Huron, SD 57350
ORGANIZER:Meyer Auction Service, LLC
URL:https://www.allauctionsales.com/auctions/vehicles-equipment-tools-online-only-auction
STATUS:CONFIRMED
PRIORITY:0
END:VEVENT
END:VCALENDAR