BEGIN:VCALENDAR
VERSION:2.0
BEGIN:VEVENT
SUMMARY:Star Island Farms Change in Operations Online Farm Equipment Auction
DTSTART;TZID=America/Denver:20260423T060000
DTEND;TZID=America/Denver:20260514T110000
DTSTAMP:20260423T120000Z
UID:338078-star-island-farms-change-in-operations-online-farm-equipment-auction
DESCRIPTION:Star Island Farms change in operations online farm equipment auction including a John Deere 7830 MFWD tractor, John Deere 9660 STS combine, MacDon 9352 turbo swather, 2007 Carry-on enclosed bumper pull trailer, John Deere 6700 self propelled sprayer, Starfire 3000 GPS receivers, 1997 Ford L9000 truck, 2003 Chevrolet 2500 4x4 pickup, 2013 Polaris RZR 800 UTV, Top Air onion topper loader, Newhouse 3pt onion top shredder &amp; more. Auction begins to close on May 14th at 12:00pm MT.
LOCATION:1551 N Oregon Street, Ontario, OR 97914
ORGANIZER:Baker Auction Co
URL:https://www.allauctionsales.com/auctions/star-island-farms-change-in-operations-online-farm-equipment-auction
STATUS:CONFIRMED
PRIORITY:0
END:VEVENT
END:VCALENDAR