BEGIN:VCALENDAR
VERSION:2.0
BEGIN:VEVENT
SUMMARY:Absolute Tennessee Land Mega Online Auction
DTSTART;TZID=America/Chicago:20260423T080000
DTEND;TZID=America/Chicago:20260521T180000
DTSTAMP:20260423T130000Z
UID:338100-absolute-tennessee-land-mega-online-auction
DESCRIPTION:Absolute Tennessee land mega online auction. This is your chance to bid on 11 incredible parcels of Tennessee land located across multiple sought-after counties, including Bradley County, Rhea County, Henry County, and Carroll County. Whether you’re looking to invest, build your dream home, expand your portfolio, or secure recreational land, this auction offers something for everyone. From rolling countryside to prime development opportunities, these properties are priced by the market — not by the seller. Auction begins to close on May 21st at 6:00pm CT.
LOCATION:, , TN 
ORGANIZER:Mike Winton Realty &amp; Auction Company
URL:https://www.allauctionsales.com/auctions/absolute-tennessee-land-mega-online-auction
STATUS:CONFIRMED
PRIORITY:0
END:VEVENT
END:VCALENDAR