BEGIN:VCALENDAR
VERSION:2.0
BEGIN:VEVENT
SUMMARY:May Machinery Consignment Online Only Auction
DTSTART;TZID=America/Los_Angeles:20260425T150000
DTEND;TZID=America/Los_Angeles:20260509T110000
DTSTAMP:20260425T220000Z
UID:338247-may-machinery-consignment-online-only-auction
DESCRIPTION:This a May machinery consignment auction, held online only. Bidding opens April 25 at 5pm PT &amp; closes May 9 at 1pm PT. Auction features tractors, trucks, construction equipment, ag &amp; industrial equipment, vehicles, trailers, implements/attachments, building supplies &amp; more. Items located in Bellingham, WA.
LOCATION:5946 Guide Meridian, Bellingham, WA 98226
ORGANIZER:Meridian Equipment Inc
URL:https://www.allauctionsales.com/auctions/may-machinery-consignment-online-only-auction
STATUS:CONFIRMED
PRIORITY:0
END:VEVENT
END:VCALENDAR