BEGIN:VCALENDAR
VERSION:2.0
BEGIN:VEVENT
SUMMARY:Centennial Hill Farm, Inc. Online Only Land Auction
DTSTART;TZID=America/Chicago:20260425T080000
DTEND;TZID=America/Chicago:20260509T190000
DTSTAMP:20260425T130000Z
UID:339400-centennial-hill-farm-inc-online-only-land-auction
DESCRIPTION:the Centennial Hill Farm, Inc. land auction featuring 59.51 +/- acres in Edwards County, Illinois with a diverse mix of tillable farmland, mature timber, and CRP ground. The property is offered in two tracts with lump sum pricing per tract, subject to a very reasonable reserve price. These versatile parcels offer potential income from cash rent and CRP payments, while affording the rare opportunity to own rural real estate with lots of recreation options and plenty of wildlife traffic. Bidding opens on Saturday, April 25th at 8:00am CT. Bidding begins to close on Saturday, May 9th at 7:00pm CT.
LOCATION:County Road 450 North, Albion, IL 62806
ORGANIZER:Integrity Realty &amp; Auctions
URL:https://www.allauctionsales.com/auctions/centennial-hill-farm-inc-online-only-land-auction
STATUS:CONFIRMED
PRIORITY:0
END:VEVENT
END:VCALENDAR