BEGIN:VCALENDAR
VERSION:2.0
BEGIN:VEVENT
SUMMARY:Fine Home Contents, Jewelry, Collectibles &amp; More Online Auction - West Knoxville
DTSTART;TZID=America/New_York:20260428T020000
DTEND;TZID=America/New_York:20260508T200000
DTSTAMP:20260428T060000Z
UID:339529-fine-home-contents-jewelry-collectibles-more-online-auction-west-knoxville
DESCRIPTION:Fine home contents, jewelry, collectibles &amp; more online auction - West Knoxville. Elegant home in Seven Oaks West has fine furniture, Thomas Kincade art, diamond rings, gold jewelry, Waterford crystal, angel collection, lovely décor, kitchen &amp; dining, signed rock &amp; roll memorabilia &amp; more. Auction ends May 8th at 7:00pm ET.
LOCATION:, West Knoxville, TN 
ORGANIZER:Seven Seas Estate Sales &amp; Auctions
URL:https://www.allauctionsales.com/auctions/fine-home-contents-jewelry-collectibles-more-online-auction-west-knoxville
STATUS:CONFIRMED
PRIORITY:0
END:VEVENT
END:VCALENDAR